BEGIN:VCALENDAR
VERSION:2.0
PRODID:darwinperennials.com
CALSCALE:GREGORIAN
METHOD:PUBLISH
BEGIN:VEVENT
DTSTART:20240413T070000
DTEND:20240413T110000
SUMMARY:Fred Meyer
LOCATION:700 Sleater Kenney Rd. SE, Lacey, WA 98503
D
 ESCRIPTION:Shop with the Wave team in the store garden center!
URI:https://www.wavegardening.com/en-us/WaveVan
PRIORITY:3
UID:wrQKNBNl8EGcyBdpTxEuRg
DTSTAMP:20260422T035200
END:VEVENT
END:VCALENDAR
